BEGIN:VCALENDAR
VERSION:2.0
PRODID:-//Falkor//Falkor Events//EN
CALSCALE:GREGORIAN
METHOD:PUBLISH
BEGIN:VEVENT
DTSTART:20260510T020000Z
DTEND:20260510T040000Z
SUMMARY:Angel City FC Home Match — May 9 at BMO Stadium — California Derby
DESCRIPTION:The San Diego Wave FC visit BMO Stadium on May 9 for the California NWSL rivalry match that has become one of the league's most anticipated regular-season fixtures. Angel City vs Wave is two of the league's best-run clubs competing in a rivalry with a clear geographic identity\, separated by 120 miles of coastline\, each representing their city's expectations and ambitions. The NWSL California Derby at BMO draws the club's largest regular-season crowd — the Angel City faithful plus the Wave supporters who made the drive north on the 5\, creating the kind of dual-sided atmosphere that raises the standard of play in both directions. In early May\, with the NWSL table still forming\, this match carries the additional weight of establishing which California club enters the summer stretch with the upper hand.
LOCATION:3939 S Figueroa St\, Los Angeles\, CA 90037
URL:https://www.falkorevents.com/eventcal/event/4905/details/
UID:event-4905@falkorevents.com
END:VEVENT
END:VCALENDAR