BEGIN:VCALENDAR
VERSION:2.0
PRODID:-//Falkor//Falkor Events//EN
CALSCALE:GREGORIAN
METHOD:PUBLISH
BEGIN:VEVENT
DTSTART:20260521T020000Z
DTEND:20260521T040000Z
SUMMARY:Angel City FC Home Match — May 20 at BMO Stadium
DESCRIPTION:Angel City FC return to BMO Stadium on May 20 for an NWSL home match in the middle of their most crucial May stretch. By the third week of May\, the Angel City faithful have attended enough home matches to understand the club's season trajectory — where they stand in the NWSL standings\, which players have been primary drivers\, and what the run-in to summer looks like. BMO Stadium on a Wednesday evening in May is a worknight match in the best possible sense: smaller crowd\, greater intensity per square foot of grandstand\, and the kind of attention that the sport rewards when you are watching without the Saturday noise telling you when to react. The quality of play at NWSL level on a Wednesday at BMO is identical to the Saturday version.
LOCATION:3939 S Figueroa St\, Los Angeles\, CA 90037
URL:https://www.falkorevents.com/eventcal/event/4906/details/
UID:event-4906@falkorevents.com
END:VEVENT
END:VCALENDAR