BEGIN:VCALENDAR
VERSION:2.0
PRODID:-//Falkor//Falkor Events//EN
CALSCALE:GREGORIAN
METHOD:PUBLISH
BEGIN:VEVENT
DTSTART:20260601T020000Z
DTEND:20260601T040000Z
SUMMARY:Angel City FC Home Match — May 31 at BMO Stadium
DESCRIPTION:Angel City FC close May at home on the 31st — the BMO Stadium Sunday match carrying the end-of-month energy of a fan base that has followed this club through a full month of home and away football. The NWSL by late May has produced enough results to tell each club something true about what it is building toward. Angel City at BMO on a May Sunday afternoon is the club at its most comfortable home iteration: the team settled in their shape\, the crowd knowing their role\, and South Los Angeles providing a backdrop that belongs to this club specifically. End of May at BMO is a Sunday afternoon worth planning around.
LOCATION:3939 S Figueroa St\, Los Angeles\, CA 90037
URL:https://www.falkorevents.com/eventcal/event/4907/details/
UID:event-4907@falkorevents.com
END:VEVENT
END:VCALENDAR