BEGIN:VCALENDAR
VERSION:2.0
PRODID:-//Falkor//Falkor Events//EN
CALSCALE:GREGORIAN
METHOD:PUBLISH
BEGIN:VEVENT
DTSTART:20260703T020000Z
DTEND:20260703T040000Z
SUMMARY:Angel City FC Home Match — July 2 at BMO Stadium
DESCRIPTION:July 2 brings Angel City FC home to BMO Stadium for a post-international-break NWSL match — the players returning from national team duty with fresh competitive sharpness and the club's season recommencing at full strength. The NWSL's post-break return matches tend to be among the season's most competitive: the rosters complete\, the tactical prep uninterrupted\, and the standard of play elevated by the infusion of national team preparation. BMO Stadium on a Thursday evening in early July has a midweek quality that suits these post-break matches — a smaller but completely engaged crowd\, the players visibly sharp\, and the football reflecting a competitive clarity that mid-season fatigue doesn't allow.
LOCATION:3939 S Figueroa St\, Los Angeles\, CA 90037
URL:https://www.falkorevents.com/eventcal/event/4908/details/
UID:event-4908@falkorevents.com
END:VEVENT
END:VCALENDAR