BEGIN:VCALENDAR
VERSION:2.0
PRODID:-//Falkor//Falkor Events//EN
CALSCALE:GREGORIAN
METHOD:PUBLISH
BEGIN:VEVENT
DTSTART:20260817T020000Z
DTEND:20260817T040000Z
SUMMARY:Angel City FC Home Match — August 16 at BMO Stadium
DESCRIPTION:Angel City FC host their August 16 NWSL home match at BMO Stadium as the season accelerates toward its postseason conclusion. By mid-August\, the NWSL playoff spots are being contested in real time\, and Angel City's home advantage at BMO has been a consistent feature of their annual runs into the bracket. The Sunday August atmosphere at BMO Stadium is the club at its summer peak: the heat manageable in the South LA evening\, the attendance at season-high levels\, and the technical quality of the football reflecting a roster that has been together long enough to play with genuine fluency. Angel City vs their August opponent at BMO is the kind of professional women's football that changes opinions — people who arrive skeptical leave talking about specific moments.
LOCATION:3939 S Figueroa St\, Los Angeles\, CA 90037
URL:https://www.falkorevents.com/eventcal/event/4909/details/
UID:event-4909@falkorevents.com
END:VEVENT
END:VCALENDAR