BEGIN:VCALENDAR
VERSION:2.0
PRODID:-//Falkor//Falkor Events//EN
CALSCALE:GREGORIAN
METHOD:PUBLISH
BEGIN:VEVENT
DTSTART:20260824T020000Z
DTEND:20260824T040000Z
SUMMARY:Angel City FC Home Match — August 23 at BMO Stadium — California Derby
DESCRIPTION:The San Diego Wave FC return to BMO Stadium on August 23 for the second NWSL California Derby of the season — and by late August the stakes are significantly higher than the May encounter. The summer table has been set and both clubs understand exactly where they stand in the playoff race. Angel City vs Wave in August at BMO is the California Derby at its most urgent: playoff positioning directly at stake\, both clubs at full roster strength\, and an atmosphere at BMO that the late-summer crowd generates with the accumulated energy of a season that has been building toward this. Wave supporters make the trip north in significant numbers. The Angel City faithful answer. The football between two of the NWSL's best clubs\, in August\, at BMO\, is the league at its competitive best.
LOCATION:3939 S Figueroa St\, Los Angeles\, CA 90037
URL:https://www.falkorevents.com/eventcal/event/4910/details/
UID:event-4910@falkorevents.com
END:VEVENT
END:VCALENDAR