BEGIN:VCALENDAR
VERSION:2.0
PRODID:-//Falkor//Falkor Events//EN
CALSCALE:GREGORIAN
METHOD:PUBLISH
BEGIN:VEVENT
DTSTART:20260912T020000Z
DTEND:20260912T040000Z
SUMMARY:Angel City FC Home Match — September 11 at BMO Stadium
DESCRIPTION:September 11 brings Angel City FC to BMO Stadium for a regular-season home match with the playoff bracket nearly locked. The NWSL's September home matches carry the weight of finality: the crowds smaller than the summer peak but entirely focused\, the players aware that every remaining result adds directly to a postseason picture now visible in clear outline. Angel City's home record at BMO has been their most consistent competitive advantage across multiple seasons — the atmosphere\, the pitch quality\, the proximity to a city that has put its investment into this club create a genuine edge. September 11 at BMO is the club in its late-season home form: maximum urgency\, minimum noise that isn't relevant.
LOCATION:3939 S Figueroa St\, Los Angeles\, CA 90037
URL:https://www.falkorevents.com/eventcal/event/4911/details/
UID:event-4911@falkorevents.com
END:VEVENT
END:VCALENDAR