BEGIN:VCALENDAR
VERSION:2.0
PRODID:-//Falkor//Falkor Events//EN
CALSCALE:GREGORIAN
METHOD:PUBLISH
BEGIN:VEVENT
DTSTART:20260917T020000Z
DTEND:20260917T040000Z
SUMMARY:Angel City FC Home Match — September 16 at BMO Stadium
DESCRIPTION:Angel City FC close their regular September home calendar at BMO Stadium on the 16th — a Wednesday evening match that may represent the last or second-to-last home fixture of the regular season. The NWSL by mid-September has established its playoff picture\, and the remaining home matches are opportunities to control seeding\, maintain momentum\, and demonstrate to the bracket what Angel City brings into the postseason. BMO on a September Wednesday evening is the most concentrated version of the Angel City supporter experience: the regulars who have been to every home match\, the tactical awareness high\, the crowd reading the game with the sophistication of people who have been paying attention since April.
LOCATION:3939 S Figueroa St\, Los Angeles\, CA 90037
URL:https://www.falkorevents.com/eventcal/event/4912/details/
UID:event-4912@falkorevents.com
END:VEVENT
END:VCALENDAR