BEGIN:VCALENDAR
VERSION:2.0
PRODID:-//Falkor//Falkor Events//EN
CALSCALE:GREGORIAN
METHOD:PUBLISH
BEGIN:VEVENT
DTSTART:20261025T020000Z
DTEND:20261025T040000Z
SUMMARY:Angel City FC Home Match — October 24 at BMO Stadium
DESCRIPTION:October 24 at BMO Stadium is Angel City FC's regular-season home closer — the final home match before the NWSL playoffs determine the season's ultimate shape. The late October atmosphere at BMO carries the cumulative weight of a full regular season: the stories developed across every home match\, the players who have become familiar to the crowd\, the moments that will be described for years regardless of what happens in the postseason. Angel City's home record at BMO has been earned one match at a time across every season since the club was founded\, and the October closer is when the crowd returns the investment by showing up with everything they have. The postseason begins the week after this. October 24 at BMO is the last statement of the regular season.
LOCATION:3939 S Figueroa St\, Los Angeles\, CA 90037
URL:https://www.falkorevents.com/eventcal/event/4913/details/
UID:event-4913@falkorevents.com
END:VEVENT
END:VCALENDAR