BEGIN:VCALENDAR
VERSION:2.0
PRODID:-//Falkor//Falkor Events//EN
CALSCALE:GREGORIAN
METHOD:PUBLISH
BEGIN:VEVENT
DTSTART:20261102T020000Z
DTEND:20261102T040000Z
SUMMARY:Angel City FC Home Match — November 1 at BMO Stadium
DESCRIPTION:November 1 at BMO Stadium is Angel City FC's final regular-season match of 2026 — the close of a home calendar that has run from April through November in the most comprehensive women's professional soccer season Los Angeles has produced. If the playoff picture requires these three points\, the BMO crowd on November 1 will know it and provide accordingly. If the position is already secured\, the match becomes the regular season's send-off: a celebration of what this club and this stadium have produced across eight months of NWSL football. Either way\, the crowd that shows up on a Sunday in early November at BMO is the most loyal and invested portion of the Angel City FC supporter base — the people who have been here all year.
LOCATION:3939 S Figueroa St\, Los Angeles\, CA 90037
URL:https://www.falkorevents.com/eventcal/event/4914/details/
UID:event-4914@falkorevents.com
END:VEVENT
END:VCALENDAR