BEGIN:VCALENDAR
VERSION:2.0
PRODID:-//Falkor//Falkor Events//EN
CALSCALE:GREGORIAN
METHOD:PUBLISH
BEGIN:VEVENT
DTSTART:20260607T020000Z
DTEND:20260607T040000Z
SUMMARY:Angel City FC Home Match — June 6 at BMO Stadium
DESCRIPTION:Angel City FC host a June 6 NWSL home match at BMO Stadium — a Saturday evening in South Los Angeles as the league's summer competition fully activates. June at BMO is the NWSL at its early-summer best: the national team players not yet pulled for international duty\, the rosters complete\, and the competition sharp after two months of regular-season play. Angel City's BMO atmosphere on a June Saturday evening draws the full scope of the club's audience — the Substack-subscriber founding fans\, the entertainment-industry presence that gave the club its launch visibility\, and the genuine soccer supporters who have been coming since season one because the quality of the football justified it. June 6 at BMO is the season in full bloom.
LOCATION:3939 S Figueroa St\, Los Angeles\, CA 90037
URL:https://www.falkorevents.com/eventcal/event/4915/details/
UID:event-4915@falkorevents.com
END:VEVENT
END:VCALENDAR