BEGIN:VCALENDAR
VERSION:2.0
PRODID:-//Falkor//Falkor Events//EN
CALSCALE:GREGORIAN
METHOD:PUBLISH
BEGIN:VEVENT
DTSTART:20260424T230000Z
DTEND:20260425T065900Z
SUMMARY:2026 NFL Draft — Rounds 2 & 3
DESCRIPTION:Day 2 of the 2026 NFL Draft — Rounds 2 and 3 — is where rosters actually get built. More Pro Bowl players come out of the second round than any fan wants to admit. The picks are harder\, the scouting is deeper\, and the teams that know what they are doing find value that Round 1 missed. Day 2 runs on ESPN\, ABC\, and NFL Network starting at 4 PM. The names you won't recognize today are the ones you'll know in three years.
LOCATION:Pittsburgh\, PA
URL:https://www.falkorevents.com/eventcal/event/4916/details/
UID:event-4916@falkorevents.com
END:VEVENT
END:VCALENDAR