BEGIN:VCALENDAR
VERSION:2.0
PRODID:-//Falkor//Falkor Events//EN
CALSCALE:GREGORIAN
METHOD:PUBLISH
BEGIN:VEVENT
DTSTART:20260425T160000Z
DTEND:20260426T010000Z
SUMMARY:2026 NFL Draft — Rounds 4–7
DESCRIPTION:The final day of the 2026 NFL Draft wraps up all seven rounds. Rounds 4 through 7 are where the scouts earn their reputation — Tom Brady went in the sixth round\, Russell Wilson in the fifth. The players nobody talked about all week are the ones who show up to camp and refuse to leave. Rounds 4 through 7 stream on NFL Network and ESPN starting at 9 AM. The draft doesn't end Thursday night. It ends Saturday afternoon.
LOCATION:Pittsburgh\, PA
URL:https://www.falkorevents.com/eventcal/event/4917/details/
UID:event-4917@falkorevents.com
END:VEVENT
END:VCALENDAR